BEGIN:VCALENDAR
VERSION:2.0
PRODID:-//Squarespace Inc/Squarespace 6//v6//EN
BEGIN:VEVENT
UID:5dd703d833d70f3babe0cb84@squarespace.com
DTSTAMP:20191121T223920Z
DTSTART:20191213T020000Z
DTEND:20191213T030000Z
SUMMARY:Wilkins Farming Ltd - Hawkes Bay
END:VEVENT
END:VCALENDAR
