BEGIN:VCALENDAR
VERSION:2.0
PRODID:-//Squarespace Inc/Squarespace 6//v6//EN
BEGIN:VEVENT
UID:5dd709af8fff286a0eb11b9b@squarespace.com
DTSTAMP:20191121T220348Z
DTSTART:20200117T010000Z
DTEND:20200117T020000Z
SUMMARY:Wilkins Farming Ltd - Athol
END:VEVENT
END:VCALENDAR
