BEGIN:VCALENDAR
VERSION:2.0
PRODID:-//Squarespace Inc/Squarespace 6//v6//EN
BEGIN:VEVENT
UID:5dd704270ab5465cb206a26f@squarespace.com
DTSTAMP:20191121T214018Z
DTSTART:20191214T040000Z
DTEND:20191214T050000Z
SUMMARY:Tower Farms Deer - Cambridge
END:VEVENT
END:VCALENDAR
