BEGIN:VCALENDAR
VERSION:2.0
PRODID:-//Squarespace Inc/Squarespace 6//v6//EN
BEGIN:VEVENT
UID:5dd70c202421805afa68a32c@squarespace.com
DTSTAMP:20191121T221433Z
DTSTART:20200120T023000Z
DTEND:20200120T033000Z
SUMMARY:Tikina Wapiti - Winton
END:VEVENT
END:VCALENDAR
