BEGIN:VCALENDAR
VERSION:2.0
PRODID:-//Squarespace Inc/Squarespace 6//v6//EN
BEGIN:VEVENT
UID:5dd704502421805afa67520d@squarespace.com
DTSTAMP:20191121T214054Z
DTSTART:20191214T200000Z
DTEND:20191214T210000Z
SUMMARY:Sarnia Deer - Cambridge
END:VEVENT
END:VCALENDAR
