BEGIN:VCALENDAR
VERSION:2.0
PRODID:-//Squarespace Inc/Squarespace 6//v6//EN
BEGIN:VEVENT
UID:5dd707ab33d70f3babe1739e@squarespace.com
DTSTAMP:20191121T224558Z
DTSTART:20200112T220000Z
DTEND:20200112T230000Z
SUMMARY:Rupert Red Deer - Geraldine
END:VEVENT
END:VCALENDAR
