BEGIN:VCALENDAR
VERSION:2.0
PRODID:-//Squarespace Inc/Squarespace 6//v6//EN
BEGIN:VEVENT
UID:5dd703087870bf27b34d26df@squarespace.com
DTSTAMP:20191121T213626Z
DTSTART:20191211T003000Z
DTEND:20191211T013000Z
SUMMARY:Ruapehu Red Deer - Taihape
END:VEVENT
END:VCALENDAR
