BEGIN:VCALENDAR
VERSION:2.0
PRODID:-//Squarespace Inc/Squarespace 6//v6//EN
BEGIN:VEVENT
UID:5dd707d9e8d3bc5dd451c074@squarespace.com
DTSTAMP:20191121T215606Z
DTSTART:20200113T030000Z
DTEND:20200113T040000Z
SUMMARY:Rothesay Deer - Methven
END:VEVENT
END:VCALENDAR
