BEGIN:VCALENDAR
VERSION:2.0
PRODID:-//Squarespace Inc/Squarespace 6//v6//EN
BEGIN:VEVENT
UID:5dd70cb48fff286a0eb190e4@squarespace.com
DTSTAMP:20191121T221651Z
DTSTART:20200123T040000Z
DTEND:20200123T050000Z
SUMMARY:Raincliff Station Wapiti - Pleasant Point
END:VEVENT
END:VCALENDAR
