BEGIN:VCALENDAR
VERSION:2.0
PRODID:-//Squarespace Inc/Squarespace 6//v6//EN
BEGIN:VEVENT
UID:5dd7065684879234de841ed3@squarespace.com
DTSTAMP:20191121T215223Z
DTSTART:20200112T000000Z
DTEND:20200112T010000Z
SUMMARY:Peel Forest Estate
END:VEVENT
END:VCALENDAR
