BEGIN:VCALENDAR
VERSION:2.0
PRODID:-//Squarespace Inc/Squarespace 6//v6//EN
BEGIN:VEVENT
UID:5dd7082633d70f3babe187ec@squarespace.com
DTSTAMP:20191122T001812Z
DTSTART:20200115T003000Z
DTEND:20200115T013000Z
SUMMARY:Netherdale Deer - Balfour 
END:VEVENT
END:VCALENDAR
