BEGIN:VCALENDAR
VERSION:2.0
PRODID:-//Squarespace Inc/Squarespace 6//v6//EN
BEGIN:VEVENT
UID:5dd7025c2421805afa6701a8@squarespace.com
DTSTAMP:20191121T223415Z
DTSTART:20191206T000000Z
DTEND:20191206T010000Z
SUMMARY:Peel Forest Estate
END:VEVENT
END:VCALENDAR
