BEGIN:VCALENDAR
VERSION:2.0
PRODID:-//Squarespace Inc/Squarespace 6//v6//EN
BEGIN:VEVENT
UID:5dd709d3f43c174dfb0aaa66@squarespace.com
DTSTAMP:20191121T220429Z
DTSTART:20200118T220000Z
DTEND:20200118T230000Z
SUMMARY:Lochinvar Wapiti - Te Anau
END:VEVENT
END:VCALENDAR
