BEGIN:VCALENDAR
VERSION:2.0
PRODID:-//Squarespace Inc/Squarespace 6//v6//EN
BEGIN:VEVENT
UID:5dd70bd133d70f3babe21c8e@squarespace.com
DTSTAMP:20191121T221340Z
DTSTART:20200120T000000Z
DTEND:20200120T010000Z
SUMMARY:Littlebourne Wapiti - Winton
END:VEVENT
END:VCALENDAR
