BEGIN:VCALENDAR
VERSION:2.0
PRODID:-//Squarespace Inc/Squarespace 6//v6//EN
BEGIN:VEVENT
UID:5dd7062af0547d640c77650c@squarespace.com
DTSTAMP:20191121T224251Z
DTSTART:20200111T000000Z
DTEND:20200111T010000Z
SUMMARY:Foveran Deer - Kurow
END:VEVENT
END:VCALENDAR
