BEGIN:VCALENDAR
VERSION:2.0
PRODID:-//Squarespace Inc/Squarespace 6//v6//EN
BEGIN:VEVENT
UID:5dd703a084879234de83a772@squarespace.com
DTSTAMP:20191121T213818Z
DTSTART:20191212T233000Z
DTEND:20191213T003000Z
SUMMARY:Forest Road Farm - Hawkes Bay
END:VEVENT
END:VCALENDAR
