BEGIN:VCALENDAR
VERSION:2.0
PRODID:-//Squarespace Inc/Squarespace 6//v6//EN
BEGIN:VEVENT
UID:5dd7036a8fff286a0eaffa57@squarespace.com
DTSTAMP:20191121T213714Z
DTSTART:20191210T220000Z
DTEND:20191210T230000Z
SUMMARY:Fairlight Station - Northern Southland
END:VEVENT
END:VCALENDAR
