BEGIN:VCALENDAR
VERSION:2.0
PRODID:-//Squarespace Inc/Squarespace 6//v6//EN
BEGIN:VEVENT
UID:5dd70c7cbceff30efb949626@squarespace.com
DTSTAMP:20191121T221602Z
DTSTART:20200122T230000Z
DTEND:20200123T000000Z
SUMMARY:Edendale Wapiti - Mt Somers
END:VEVENT
END:VCALENDAR
