BEGIN:VCALENDAR
VERSION:2.0
PRODID:-//Squarespace Inc/Squarespace 6//v6//EN
BEGIN:VEVENT
UID:5dd70722f0547d640c779073@squarespace.com
DTSTAMP:20191121T224429Z
DTSTART:20200112T033000Z
DTEND:20200112T043000Z
SUMMARY:Deer Genetics NZ - Geraldine
END:VEVENT
END:VCALENDAR
