BEGIN:VCALENDAR
VERSION:2.0
PRODID:-//Squarespace Inc/Squarespace 6//v6//EN
BEGIN:VEVENT
UID:5dd704028fff286a0eb00f4d@squarespace.com
DTSTAMP:20191121T213936Z
DTSTART:20191214T000000Z
DTEND:20191214T010000Z
SUMMARY:Crowley Deer - Hamilton
END:VEVENT
END:VCALENDAR
