BEGIN:VCALENDAR
VERSION:2.0
PRODID:-//Squarespace Inc/Squarespace 6//v6//EN
BEGIN:VEVENT
UID:5dd709f70ab5465cb2079867@squarespace.com
DTSTAMP:20191121T220458Z
DTSTART:20200119T010000Z
DTEND:20200119T020000Z
SUMMARY:Connemara - Manapouri
END:VEVENT
END:VCALENDAR
