BEGIN:VCALENDAR
VERSION:2.0
PRODID:-//Squarespace Inc/Squarespace 6//v6//EN
BEGIN:VEVENT
UID:5dd70c57bceff30efb9490dc@squarespace.com
DTSTAMP:20191121T221511Z
DTSTART:20200121T000000Z
DTEND:20200121T010000Z
SUMMARY:Clachanburn Elk - Ranfurly
END:VEVENT
END:VCALENDAR
