BEGIN:VCALENDAR
VERSION:2.0
PRODID:-//Squarespace Inc/Squarespace 6//v6//EN
BEGIN:VEVENT
UID:5dd708f23ce4261ee2208d1d@squarespace.com
DTSTAMP:20191121T220059Z
DTSTART:20200115T050000Z
DTEND:20200115T060000Z
SUMMARY:Brock Deer - Gore
END:VEVENT
END:VCALENDAR
