BEGIN:VCALENDAR
VERSION:2.0
PRODID:-//Squarespace Inc/Squarespace 6//v6//EN
BEGIN:VEVENT
UID:5dd70804efd2fe59136fa395@squarespace.com
DTSTAMP:20191122T001855Z
DTSTART:20200114T010000Z
DTEND:20200114T020000Z
SUMMARY:Black Forest Deer Park - Outram
END:VEVENT
END:VCALENDAR
