BEGIN:VCALENDAR
VERSION:2.0
PRODID:-//Squarespace Inc/Squarespace 6//v6//EN
BEGIN:VEVENT
UID:5dd709280ab5465cb207757e@squarespace.com
DTSTAMP:20191121T225118Z
DTSTART:20200115T233000Z
DTEND:20200116T003000Z
SUMMARY:Arawata Red Deer - Pinebush
END:VEVENT
END:VCALENDAR
