BEGIN:VCALENDAR
VERSION:2.0
PRODID:-//Squarespace Inc/Squarespace 6//v6//EN
BEGIN:VEVENT
UID:5dd70974bceff30efb9418ce@squarespace.com
DTSTAMP:20191121T220312Z
DTSTART:20200116T203000Z
DTEND:20200116T213000Z
SUMMARY:Annadale Farm - Invercargill
END:VEVENT
END:VCALENDAR
