BEGIN:VCALENDAR
VERSION:2.0
PRODID:-//Squarespace Inc/Squarespace 6//v6//EN
BEGIN:VEVENT
UID:5dd7094ebceff30efb94136c@squarespace.com
DTSTAMP:20191122T001427Z
DTSTART:20200116T040000Z
DTEND:20200116T050000Z
SUMMARY:Altrive Red Deer - Riversdale
END:VEVENT
END:VCALENDAR
